BEGIN:VCALENDAR
VERSION:2.0
PRODID:-//213.186.33.4//NONSGML kigkonsult.se iCalcreator 2.20//
CALSCALE:GREGORIAN
METHOD:PUBLISH
X-WR-TIMEZONE:Europe/Paris
BEGIN:VEVENT
UID:event20223@Centre Védantique Ramakrishna - Paris
DTSTAMP:20260419T125320Z
CATEGORIES:Calendrier français\, Conférences et programmes culturels\, Cale
 ndrier anglais\, Conferences and cultural programmes
DESCRIPTION:Le deuil d’un bébé (ou d’un enfant ?) par le Dr Dominique Leyro
 nnas\nCategory: Calendrier français\, Conférences et programmes culturels\
 , Calendrier anglais\, Conferences and cultural programmes\nLink: https://
 www.preprod.centre-vedantique.fr/index.php?option=com_jem&view=event&id=20
 223:le-deuil-d’un-bébé\n
DTSTART;TZID=Europe/Paris:20250323T150000
DTEND;TZID=Europe/Paris:20250323T160000
LOCATION:Centre Védantique Ramakrishna de Gretz\,64 boulevard Victor Hugo\,
 77220 Gretz
SUMMARY:Le deuil d’un bébé (ou d’un enfant ?) par le Dr Dominique Leyronnas
END:VEVENT
END:VCALENDAR
