BEGIN:VCALENDAR
VERSION:2.0
PRODID:-//213.186.33.4//NONSGML kigkonsult.se iCalcreator 2.20//
CALSCALE:GREGORIAN
METHOD:PUBLISH
X-WR-TIMEZONE:Europe/Paris
BEGIN:VEVENT
UID:event19251@Centre Védantique Ramakrishna - Paris
DTSTAMP:20260419T091333Z
CATEGORIES:Calendrier français\, Célébrations\, Calendrier anglais\, Ceremo
 nies and festivals
DESCRIPTION:SRI RAMAKRISHNA PUJA\nCategory: Calendrier français\, Célébrati
 ons\, Calendrier anglais\, Ceremonies and festivals\nLink: https://www.pre
 prod.centre-vedantique.fr/index.php?option=com_jem&view=event&id=19251:sri
 -ramakrishna-puja\n
DTSTART;TZID=Europe/Paris:20250302T103000
DTEND;TZID=Europe/Paris:20250302T120000
LOCATION:Centre Védantique Ramakrishna de Gretz\,64 boulevard Victor Hugo\,
 77220 Gretz
SUMMARY:SRI RAMAKRISHNA PUJA
URL:https://www.preprod.centre-vedantique.fr/index.php?option=com_jem&view=
 event&id=19251:sri-ramakrishna-puja
END:VEVENT
END:VCALENDAR
